BEGIN:VCALENDAR
VERSION:2.0
PRODID:-//eventon.com NONSGML v1.0//EN
CALSCALE:GREGORIAN
METHOD:PUBLISH
BEGIN:VEVENT
UID:69e75d8157daa
DTSTAMP:20260421T112033Z
DTSTART:20260523T070000Z
DTEND:20260523T110000Z
LOCATION:
SUMMARY:Smartphone/Tablet - Einzelschulung
DESCRIPTION:Sie haben sich ein neues Smartphone angeschafft oder sehen bei 
 Ihrem alten Gerät noch Entwicklungspotenzial hinsichtlich Grundeinstellung
 en und Nutzungsmöglichkeiten? Eine individuelle einstündige Schulung füh
 rt zum Ziel. Mitzubringen ist das eigene Smartphone oder ein Tablet mit dem
  Betriebssystem iOS oder Google Android.\nhttps://kamue.me/events/smartphon
 e-tablet-einzelschulung
URL:https://kamue.me/events/smartphone-tablet-einzelschulung
END:VEVENT
END:VCALENDAR