BEGIN:VCALENDAR
VERSION:2.0
PRODID:-//eventon.com NONSGML v1.0//EN
CALSCALE:GREGORIAN
METHOD:PUBLISH
BEGIN:VEVENT
UID:69e4c479a3c4b
DTSTAMP:20260419T120305Z
DTSTART:20260521T163000Z
DTEND:20260521T173000Z
LOCATION:
SUMMARY:Die Venen trainieren
DESCRIPTION:Schwere und schmerzende Beine nach längerem Sitzen oder Stehen
 ? Venenschwäche? Regelmäßige Venengymnastik hat viele positive Effekte a
 uf die Gesundheit: Sie bringt den Kreislauf in Schwung und verbessert die D
 urchblutung. Spezielle Übungen kräftigen und entstauen die Beine und hal
 ten den Rumpf beweglich\,  um die Atemmuskulatur zu unterstützen. Zielgrup
 pe: Menschen mit normaler Alltagsbelastbarkeit\, [..]\nhttps://kamue.me/eve
 nts/die-venen-trainieren
URL:https://kamue.me/events/die-venen-trainieren
END:VEVENT
END:VCALENDAR