BEGIN:VCALENDAR
VERSION:2.0
PRODID:-//eventon.com NONSGML v1.0//EN
CALSCALE:GREGORIAN
METHOD:PUBLISH
BEGIN:VEVENT
UID:69e4d88abfa87
DTSTAMP:20260419T132842Z
DTSTART:20260412T100000Z
DTEND:20260412T190000Z
LOCATION:
SUMMARY:Tage der offenen Tür
DESCRIPTION:Das KamÜ öffnet seine Türen  und ihr seid herzlich eingelad
 en. Zwei Tage voller Kunst\,  Begegnungen\,  Musik und Bewegung. Schaut vor
 bei\,  lernt uns kennen\,  lasst euch überraschen. Für die Angebote im Yo
 garaum könnt ihr euch vorab eine Platz sichern &#8211; hier geht es direkt
  zur Anmeldung Alle Veranstaltungen sind kostenfrei! &nbsp;[..]\nhttps://ka
 mue.me/events/tage-der-offenen-tuer/var/ri-1.l-L1
URL:https://kamue.me/events/tage-der-offenen-tuer/var/ri-1.l-L1
END:VEVENT
END:VCALENDAR